BEGIN:VCALENDAR
VERSION:2.0
PRODID:-//ExpressionEngine Easy iCalendar plugin//NONSGML v2.0.1//EN
X-WR-TIMEZONE:America/Chicago
X-WR-CALNAME:Upcoming Auctions
BEGIN:VEVENT
UID:123051
DTSTAMP:20240626T201900
DTSTART:20240626T201900
DTEND:20240709T183000
SUMMARY:Kiln\, Vintage Hummels\, Jewelry and Stamps (mint green tag)
LOCATION:107 County Road C\, Ellsworth\, WI 54011\, US
DESCRIPTION:Hines Online Facility 107 County Road C\, Ellsworth WI 54011
URL:https://www.hinesauctionservice.com/auctions/detail/bw123051
SEQUENCE:1
END:VEVENT
END:VCALENDAR