BEGIN:VCALENDAR
VERSION:2.0
PRODID:-//ExpressionEngine Easy iCalendar plugin//NONSGML v2.0.1//EN
X-WR-TIMEZONE:America/Chicago
X-WR-CALNAME:Upcoming Auctions
BEGIN:VEVENT
UID:122978
DTSTAMP:20240625T170400
DTSTART:20240625T170400
DTEND:20240702T183000
SUMMARY:Commercial Convection Oven\, Antiques\, Sterling and Collectib
 les (pink tag)
LOCATION:107 County Road C\, Ellsworth\, WI 54011\, US
DESCRIPTION:Hines Online Facility 107 County Road C\, Ellsworth WI 54011
URL:https://www.hinesauctionservice.com/auctions/detail/bw122978
SEQUENCE:1
END:VEVENT
END:VCALENDAR