BEGIN:VCALENDAR
VERSION:2.0
PRODID:-//ExpressionEngine Easy iCalendar plugin//NONSGML v2.0.1//EN
X-WR-TIMEZONE:America/Chicago
X-WR-CALNAME:Upcoming Auctions
BEGIN:VEVENT
UID:122783
DTSTAMP:20240620T100000
DTSTART:20240620T100000
DTEND:20240701T183000
SUMMARY:Estate of Margaret Haugen
LOCATION:{location}
DESCRIPTION:Located at W5468 450th Ave Ellsworth\, WI 54011. OPEN HOUSES:
  Thursday\, June 27th from 3-5pm & Monday\, July 1st from 3-5
 pm
URL:https://www.hinesauctionservice.com/auctions/detail/bw122783
SEQUENCE:1
END:VEVENT
END:VCALENDAR