BEGIN:VCALENDAR
VERSION:2.0
PRODID:-//ExpressionEngine Easy iCalendar plugin//NONSGML v2.0.1//EN
X-WR-TIMEZONE:America/Chicago
X-WR-CALNAME:Upcoming Auctions
BEGIN:VEVENT
UID:122551
DTSTAMP:20240618T190200
DTSTART:20240618T190200
DTEND:20240627T183000
SUMMARY:Rockwood RV\, Die-Cast\, Jewelry and Antiques (red tag)
LOCATION:107 County Road C\, Ellsworth\, WI 54011\, US
DESCRIPTION:Hines Online Facility 107 county Road C. Ellsworth WI 54011
URL:https://www.hinesauctionservice.com/auctions/detail/bw122551
SEQUENCE:1
END:VEVENT
END:VCALENDAR