BEGIN:VCALENDAR
VERSION:2.0
PRODID:-//ExpressionEngine Easy iCalendar plugin//NONSGML v2.0.1//EN
X-WR-TIMEZONE:America/Chicago
X-WR-CALNAME:Upcoming Auctions
BEGIN:VEVENT
UID:122437
DTSTAMP:20240614T100000
DTSTART:20240614T100000
DTEND:20240708T183000
SUMMARY:Machinery\, Vehicles\, Farm & Storage
LOCATION:107 County Rd C\, Ellsworth\, WI 54011\, US
DESCRIPTION:Located at The Hines Online Facility 107 County Road C\, Ell
 sworth WI 54011. OPEN: Monday-Friday 9am-5pm
URL:https://www.hinesauctionservice.com/auctions/detail/bw122437
SEQUENCE:1
END:VEVENT
END:VCALENDAR