BEGIN:VCALENDAR
VERSION:2.0
PRODID:-//ExpressionEngine Easy iCalendar plugin//NONSGML v2.0.1//EN
X-WR-TIMEZONE:America/Chicago
X-WR-CALNAME:Upcoming Auctions
BEGIN:VEVENT
UID:122328
DTSTAMP:20240612T165200
DTSTART:20240612T165200
DTEND:20240625T183000
SUMMARY:Chevrolet Sonic Sedan\, IH\, CASE\, Sterling Silver and Vintage
  Collectibles (gold tag)
LOCATION:107 County Road C\, Ellsworth\, WI 54011\, US
DESCRIPTION:Hines Online Facility 107 County Road C\, Ellsworth WI 54011
URL:https://www.hinesauctionservice.com/auctions/detail/bw122328
SEQUENCE:1
END:VEVENT
END:VCALENDAR