BEGIN:VCALENDAR
VERSION:2.0
PRODID:-//ExpressionEngine Easy iCalendar plugin//NONSGML v2.0.1//EN
X-WR-TIMEZONE:America/Chicago
X-WR-CALNAME:Upcoming Auctions
BEGIN:VEVENT
UID:121579
DTSTAMP:20240530T100000
DTSTART:20240530T100000
DTEND:20240612T183000
SUMMARY:Jerome & Loretta Brickner Estate
LOCATION:527 South St\, Ellsworth\, WI 54011\, US
DESCRIPTION:Located at 527 South St Ellsworth\, WI 54011. OPEN HOUSES: Tu
 esday\, June 4th from 3-5pm and Wednesday\, June 12th from 3-5
 pm
URL:https://www.hinesauctionservice.com/auctions/detail/bw121579
SEQUENCE:1
END:VEVENT
END:VCALENDAR