BEGIN:VCALENDAR
VERSION:2.0
PRODID:-//ExpressionEngine Easy iCalendar plugin//NONSGML v2.0.1//EN
X-WR-TIMEZONE:America/Chicago
X-WR-CALNAME:Upcoming Auctions
BEGIN:VEVENT
UID:121453
DTSTAMP:20240529T151400
DTSTART:20240529T151400
DTEND:20240611T183000
SUMMARY:Vehicle\, Outdoor\, Commercial Steamers\, Beer Making and Furni
 ture (purple tag)
LOCATION:107 County Road C\, Ellsworth\, WI 54011\, US
DESCRIPTION:Hines Online Facility 107 County Road C Ellsworth WI 54011
URL:https://www.hinesauctionservice.com/auctions/detail/bw121453
SEQUENCE:1
END:VEVENT
END:VCALENDAR