BEGIN:VCALENDAR
VERSION:2.0
PRODID:-//ExpressionEngine Easy iCalendar plugin//NONSGML v2.0.1//EN
X-WR-TIMEZONE:America/Chicago
X-WR-CALNAME:Upcoming Auctions
BEGIN:VEVENT
UID:120851
DTSTAMP:20240516T100000
DTSTART:20240516T100000
DTEND:20240530T183000
SUMMARY:Krause Household\, Tools\, Lawn & Garden
LOCATION:{location}
DESCRIPTION:Located at W7669 163rd Ave Hager City\, WI 54014 OPEN HOUSE:
  Thursday\, May 30th from 3-5pm
URL:https://www.hinesauctionservice.com/auctions/detail/bw120851
SEQUENCE:1
END:VEVENT
END:VCALENDAR