BEGIN:VCALENDAR
VERSION:2.0
PRODID:-//ExpressionEngine Easy iCalendar plugin//NONSGML v2.0.1//EN
X-WR-TIMEZONE:America/Chicago
X-WR-CALNAME:Upcoming Auctions
BEGIN:VEVENT
UID:120732
DTSTAMP:20240514T100000
DTSTART:20240514T100000
DTEND:20240603T183000
SUMMARY:O'Connell Sterling\, Jewelry\, Household & Furniture
LOCATION:700 Leroy Ln Unit 25\, River Falls\, WI 54022\, US
DESCRIPTION:Located at 700 Leroy Ln Unit 25 River Falls\, WI 540022. OPEN
  HOUSES: Tuesday\, May 28thÂ from 3-5pm and Monday\, June 3rdÂ
  from 3-5pm
URL:https://www.hinesauctionservice.com/auctions/detail/bw120732
SEQUENCE:1
END:VEVENT
END:VCALENDAR