BEGIN:VCALENDAR
VERSION:2.0
PRODID:-//ExpressionEngine Easy iCalendar plugin//NONSGML v2.0.1//EN
X-WR-TIMEZONE:America/Chicago
X-WR-CALNAME:Upcoming Auctions
BEGIN:VEVENT
UID:120038
DTSTAMP:20240502T100000
DTSTART:20240502T100000
DTEND:20240520T183000
SUMMARY:Drywall Tools\, Woodworking\, Boat & Trailer
LOCATION:{location}
DESCRIPTION:Located at 14770 180th St E Hastings\, MN 55033. OPEN HOUSES:
  Tuesday\, May 14th from 3-5pm & Monday\, May 20th from 3-5pm
URL:https://www.hinesauctionservice.com/auctions/detail/bw120038
SEQUENCE:1
END:VEVENT
END:VCALENDAR