BEGIN:VCALENDAR
VERSION:2.0
PRODID:-//ExpressionEngine Easy iCalendar plugin//NONSGML v2.0.1//EN
X-WR-TIMEZONE:America/Chicago
X-WR-CALNAME:Upcoming Auctions
BEGIN:VEVENT
UID:119658
DTSTAMP:20240426T100000
DTSTART:20240426T100000
DTEND:20240513T183000
SUMMARY:Kim Huppert Estate #3
LOCATION:{location}
DESCRIPTION:Located at N5602 670th St Ellsworth\, WI 54011 OPEN HOUSES: W
 ednesday\, May 8th from 3-5pm & Monday\, May 13th from 3-5pm
URL:https://www.hinesauctionservice.com/auctions/detail/bw119658
SEQUENCE:1
END:VEVENT
END:VCALENDAR