BEGIN:VCALENDAR
VERSION:2.0
PRODID:-//ExpressionEngine Easy iCalendar plugin//NONSGML v2.0.1//EN
X-WR-TIMEZONE:America/Chicago
X-WR-CALNAME:Upcoming Auctions
BEGIN:VEVENT
UID:119563
DTSTAMP:20240424T100000
DTSTART:20240424T100000
DTEND:20240509T183000
SUMMARY:Oliver Tractor\, C-Can\, Shelters\, Lawn & Garden (orange tag) 
 - Machinery Added
LOCATION:107 County Rd C\, Ellsworth\, WI 54011\, US
DESCRIPTION:Hines Online Facility 107 County Road C\, Ellsworth WI 54011 
 Monday-Friday 9am-5pm
URL:https://www.hinesauctionservice.com/auctions/detail/bw119563
SEQUENCE:1
END:VEVENT
END:VCALENDAR