BEGIN:VCALENDAR
VERSION:2.0
PRODID:-//ExpressionEngine Easy iCalendar plugin//NONSGML v2.0.1//EN
X-WR-TIMEZONE:America/Chicago
X-WR-CALNAME:Upcoming Auctions
BEGIN:VEVENT
UID:119561
DTSTAMP:20240424T100000
DTSTART:20240424T100000
DTEND:20240502T183000
SUMMARY:Household\, Furniture & Antiques
LOCATION:1041 Featherstone Rd\, Red Wing\, MN 55066\, US
DESCRIPTION:Located at 1041 Featherstone Rd Red Wing\, MN 55066 (2 storag
 e units). NO VIEWINGS
URL:https://www.hinesauctionservice.com/auctions/detail/bw119561
SEQUENCE:1
END:VEVENT
END:VCALENDAR