BEGIN:VCALENDAR
VERSION:2.0
PRODID:-//ExpressionEngine Easy iCalendar plugin//NONSGML v2.0.1//EN
X-WR-TIMEZONE:America/Chicago
X-WR-CALNAME:Upcoming Auctions
BEGIN:VEVENT
UID:119422
DTSTAMP:20240423T201600
DTSTART:20240423T201600
DTEND:20240506T183000
SUMMARY:Boats\, New Household\, Dog Supplies and Antiques (red tag)
LOCATION:107 County Road C\, Ellsworth\, WI 54011\, US
DESCRIPTION:Hines Online Facility\, 107 County Road C\, Ellsworth WI 54011
URL:https://www.hinesauctionservice.com/auctions/detail/bw119422
SEQUENCE:1
END:VEVENT
END:VCALENDAR