BEGIN:VCALENDAR
VERSION:2.0
PRODID:-//ExpressionEngine Easy iCalendar plugin//NONSGML v2.0.1//EN
X-WR-TIMEZONE:America/Chicago
X-WR-CALNAME:Upcoming Auctions
BEGIN:VEVENT
UID:119005
DTSTAMP:20240416T100000
DTSTART:20240416T100000
DTEND:20240430T183000
SUMMARY:April Firearms\, Sporting\, Ammo\, Vehicles\, Coins and Vintage 
 Snowmobile Gear
LOCATION:{location}
DESCRIPTION:Hines Online Facility 107 County Road C\, Ellsworth WI 54011 
 Monday-Friday 9am-5pm
URL:https://www.hinesauctionservice.com/auctions/detail/bw119005
SEQUENCE:1
END:VEVENT
END:VCALENDAR