BEGIN:VCALENDAR
VERSION:2.0
PRODID:-//ExpressionEngine Easy iCalendar plugin//NONSGML v2.0.1//EN
X-WR-TIMEZONE:America/Chicago
X-WR-CALNAME:Upcoming Auctions
BEGIN:VEVENT
UID:118864
DTSTAMP:20240416T220400
DTSTART:20240416T220400
DTEND:20240429T183000
SUMMARY:Garfield Collectibles\, Hummels\, Sterling and Antiques (blue)
LOCATION:107 County Road C\, Ellsworth\, WI 54011\, US
DESCRIPTION:Hines Online Facility\, 107 County Road C\, Ellsworth WI 54011
 \, Open Monday-Friday from 9am-5pm
URL:https://www.hinesauctionservice.com/auctions/detail/bw118864
SEQUENCE:1
END:VEVENT
END:VCALENDAR