BEGIN:VCALENDAR
VERSION:2.0
PRODID:-//ExpressionEngine Easy iCalendar plugin//NONSGML v2.0.1//EN
X-WR-TIMEZONE:America/Chicago
X-WR-CALNAME:Upcoming Auctions
BEGIN:VEVENT
UID:118448
DTSTAMP:20240412T100000
DTSTART:20240412T100000
DTEND:20240422T183000
SUMMARY:Storage Unit Online Auction - Bid Now!!
LOCATION:{location}
DESCRIPTION:Located at 2329 Co Rd A\, Spooner\, WI 54801 There will be no
  Public Open Viewing
URL:https://www.hinesauctionservice.com/auctions/detail/bw118448
SEQUENCE:1
END:VEVENT
END:VCALENDAR