BEGIN:VCALENDAR
VERSION:2.0
PRODID:-//ExpressionEngine Easy iCalendar plugin//NONSGML v2.0.1//EN
X-WR-TIMEZONE:America/Chicago
X-WR-CALNAME:Upcoming Auctions
BEGIN:VEVENT
UID:118132
DTSTAMP:20240403T193900
DTSTART:20240403T193900
DTEND:20240423T183000
SUMMARY:Stained Glass Lamps\, Sterling\, New Household and Die-cast  (
 purple tag)
LOCATION:107 County Road C\, Ellsworth\, WI 54011\, US
DESCRIPTION:Hines Online Facility 107 County Road C\, Ellsworth WI 54011 
 Monday-Friday 9am-5pm
URL:https://www.hinesauctionservice.com/auctions/detail/bw118132
SEQUENCE:1
END:VEVENT
END:VCALENDAR