BEGIN:VCALENDAR
VERSION:2.0
PRODID:-//ExpressionEngine Easy iCalendar plugin//NONSGML v2.0.1//EN
X-WR-TIMEZONE:America/Chicago
X-WR-CALNAME:Upcoming Auctions
BEGIN:VEVENT
UID:117890
DTSTAMP:20240328T202100
DTSTART:20240328T202100
DTEND:20240416T183000
SUMMARY:Ford F350\, Vintage Oil Cans\, New Inventory\, Sterling and Hou
 sehold (green tag)
LOCATION:107 County Road C\, Ellsworth\, WI 54011\, US
DESCRIPTION:Hines Online Facility 107 County Road C\, Ellsworth WI 54011 
 Monday-Friday 9am-5pm
URL:https://www.hinesauctionservice.com/auctions/detail/bw117890
SEQUENCE:1
END:VEVENT
END:VCALENDAR