BEGIN:VCALENDAR
VERSION:2.0
PRODID:-//ExpressionEngine Easy iCalendar plugin//NONSGML v2.0.1//EN
X-WR-TIMEZONE:America/Chicago
X-WR-CALNAME:Upcoming Auctions
BEGIN:VEVENT
UID:117642
DTSTAMP:20240322T100000
DTSTART:20240322T100000
DTEND:20240410T183000
SUMMARY:Erling Lestrud Estate - Tractors\, Machinery & Farm
LOCATION:1580 Davis St\, Hammond\, WI 54015\, US
DESCRIPTION:Located at 1580 Davis St Hammond\, WI 54015 OPEN HOUSES: Wedn
 esday\, April 3rd from 3-5pm & Wednesday\, April 10th from 3-5
 pm
URL:https://www.hinesauctionservice.com/auctions/detail/bw117642
SEQUENCE:1
END:VEVENT
END:VCALENDAR