BEGIN:VCALENDAR
VERSION:2.0
PRODID:-//ExpressionEngine Easy iCalendar plugin//NONSGML v2.0.1//EN
X-WR-TIMEZONE:America/Chicago
X-WR-CALNAME:Upcoming Auctions
BEGIN:VEVENT
UID:117377
DTSTAMP:20240318T015500
DTSTART:20240318T015500
DTEND:20240402T183000
SUMMARY:Brass School Bell\, Boat\, Sterling\, Stampin Up and Collectibl
 es (yellow tag)
LOCATION:107 County Road C\, Ellsworth \, WI 54011\, US
DESCRIPTION:Hines Online Facility 107 County Road C Ellsworth WI 54011 O
 pen: Monday-Friday 9am-5pm
URL:https://www.hinesauctionservice.com/auctions/detail/bw117377
SEQUENCE:1
END:VEVENT
END:VCALENDAR