BEGIN:VCALENDAR
VERSION:2.0
PRODID:-//ExpressionEngine Easy iCalendar plugin//NONSGML v2.0.1//EN
X-WR-TIMEZONE:America/Chicago
X-WR-CALNAME:Upcoming Auctions
BEGIN:VEVENT
UID:117224
DTSTAMP:20240314T100000
DTSTART:20240314T100000
DTEND:20240328T183000
SUMMARY:Skid Steer Attachments\, Tool Chests\, Collectibles\, Lawn & Ga
 rden
LOCATION:107 County Rd C\, Ellsworth\, WI 54011\, US
DESCRIPTION:Hines Online Facility 107 County Road C Ellsworth\, WI 54011 
 Open: Monday-Friday from 9am-5pm
URL:https://www.hinesauctionservice.com/auctions/detail/bw117224
SEQUENCE:1
END:VEVENT
END:VCALENDAR