BEGIN:VCALENDAR
VERSION:2.0
PRODID:-//ExpressionEngine Easy iCalendar plugin//NONSGML v2.0.1//EN
X-WR-TIMEZONE:America/Chicago
X-WR-CALNAME:Upcoming Auctions
BEGIN:VEVENT
UID:107399
DTSTAMP:20230905T212700
DTSTART:20230905T212700
DTEND:20230921T183000
SUMMARY:Jewelry\, Antiques and Collectibles (mint green tag)
LOCATION:107 Cty Rd C\, Ellsworth\, WI 54011\, US
DESCRIPTION:Hines Online Facility 107 County Road C Ellsworth\, WI 54011 
 Open: Monday-Friday from 9am-5pm
URL:https://www.hinesauctionservice.com/auctions/detail/bw107399
SEQUENCE:1
END:VEVENT
END:VCALENDAR