BEGIN:VCALENDAR
VERSION:2.0
PRODID:-//ExpressionEngine Easy iCalendar plugin//NONSGML v2.0.0//EN
X-WR-TIMEZONE:America/Chicago
X-WR-CALNAME:Upcoming Auctions
BEGIN:VEVENT
UID:101589
DTSTAMP:20230522T100000
DTSTART:20230522T100000
DTEND:20230608T183000
SUMMARY:Gutting Tractor\, Machinery\, Farm & Household
LOCATION:W8362 640th Ave\, Ellsworth\, WI 54011\, US
DESCRIPTION:W8362 640th Ave Ellsworth\, WI 54011 Open House: Fri\, June 2n
 d & Thurs\, June 8th from 3-5pm
URL:https://www.hinesauctionservice.com/auctions/detail/bw101589
SEQUENCE:1
END:VEVENT
END:VCALENDAR